Workbook
Name Z_20966C26_2FB0_458A_A419_418535DD5D43_.wvu.Cols: #REF!
Name Z_20966C26_2FB0_458A_A419_418535DD5D43_.wvu.Cols: Upute!$B:$IT
Name Z_20966C26_2FB0_458A_A419_418535DD5D43_.wvu.PrintArea: OBVEZE!$A$3:$D$109
Name Z_20966C26_2FB0_458A_A419_418535DD5D43_.wvu.PrintTitles: OBVEZE!$A$3:$IQ$3
Name Z_20966C26_2FB0_458A_A419_418535DD5D43_.wvu.Rows: #REF!
Name Z_20966C26_2FB0_458A_A419_418535DD5D43_.wvu.Rows: Upute!$A$23:$IT$65535

Sheet Skriveni
A1: VP | B1: AOP | C1: IZNOS01 | D1: IZNOS02 | E1: IZNOS03 | F1: IZNOS04 | G1: KONTRBR | H1: RAZLIKA | I1: RAZLIKA1 | J1: POLJE | K1: TEKST | L1: BROJ
A2: 151 | B2: 1 | C2: ='PR-RAS'!D6 -> 309551.76 | D2: ='PR-RAS'!E6 -> 352763 | E2: 0 | F2: 0 | G2: =(B2/1000)*(C2*1+D2*2) -> 1015.0778 | H2: =ABS(C2-ROUND(C2,0))+ABS(D2-ROUND(D2,0)) -> 0.24 | I2: 0
A3: 151 | B3: 2 | C3: ='PR-RAS'!D7 -> 123629.75 | D3: ='PR-RAS'!E7 -> 109416.58 | E3: 0 | F3: 0 | G3: =(B3/1000)*(C3*1+D3*2) -> 684.92582 | H3: =ABS(C3-ROUND(C3,0))+ABS(D3-ROUND(D3,0)) -> 0.67 | I3: 0
A4: 151 | B4: 3 | C4: ='PR-RAS'!D8 -> 120120.19 | D4: ='PR-RAS'!E8 -> 104881.04 | E4: 0 | F4: 0 | G4: =(B4/1000)*(C4*1+D4*2) -> 989.64681 | H4: =ABS(C4-ROUND(C4,0))+ABS(D4-ROUND(D4,0)) -> 0.23 | I4: 0
A5: 151 | B5: 4 | C5: ='PR-RAS'!D9 -> 120120.19 | D5: ='PR-RAS'!E9 -> 104881.04 | E5: 0 | F5: 0 | G5: =(B5/1000)*(C5*1+D5*2) -> 1319.5291 | H5: =ABS(C5-ROUND(C5,0))+ABS(D5-ROUND(D5,0)) -> 0.23 | I5: 0
A6: 151 | B6: 5 | C6: ='PR-RAS'!D10 -> 0 | D6: ='PR-RAS'!E10 -> 0 | E6: 0 | F6: 0 | G6: =(B6/1000)*(C6*1+D6*2) -> 0 | H6: =ABS(C6-ROUND(C6,0))+ABS(D6-ROUND(D6,0)) -> 0 | I6: 0
A7: 151 | B7: 6 | C7: ='PR-RAS'!D11 -> 0 | D7: ='PR-RAS'!E11 -> 0 | E7: 0 | F7: 0 | G7: =(B7/1000)*(C7*1+D7*2) -> 0 | H7: =ABS(C7-ROUND(C7,0))+ABS(D7-ROUND(D7,0)) -> 0 | I7: 0
A8: 151 | B8: 7 | C8: ='PR-RAS'!D12 -> 0 | D8: ='PR-RAS'!E12 -> 0 | E8: 0 | F8: 0 | G8: =(B8/1000)*(C8*1+D8*2) -> 0 | H8: =ABS(C8-ROUND(C8,0))+ABS(D8-ROUND(D8,0)) -> 0 | I8: 0
A9: 151 | B9: 8 | C9: ='PR-RAS'!D13 -> 0 | D9: ='PR-RAS'!E13 -> 0 | E9: 0 | F9: 0 | G9: =(B9/1000)*(C9*1+D9*2) -> 0 | H9: =ABS(C9-ROUND(C9,0))+ABS(D9-ROUND(D9,0)) -> 0 | I9: 0
A10: 151 | B10: 9 | C10: ='PR-RAS'!D14 -> 0 | D10: ='PR-RAS'!E14 -> 0 | E10: 0 | F10: 0 | G10: =(B10/1000)*(C10*1+D10*2) -> 0 | H10: =ABS(C10-ROUND(C10,0))+ABS(D10-ROUND(D10,0)) -> 0 | I10: 0
A11: 151 | B11: 10 | C11: ='PR-RAS'!D15 -> 0 | D11: ='PR-RAS'!E15 -> 0 | E11: 0 | F11: 0 | G11: =(B11/1000)*(C11*1+D11*2) -> 0 | H11: =ABS(C11-ROUND(C11,0))+ABS(D11-ROUND(D11,0)) -> 0 | I11: 0
A12: 151 | B12: 11 | C12: ='PR-RAS'!D16 -> 0 | D12: ='PR-RAS'!E16 -> 0 | E12: 0 | F12: 0 | G12: =(B12/1000)*(C12*1+D12*2) -> 0 | H12: =ABS(C12-ROUND(C12,0))+ABS(D12-ROUND(D12,0)) -> 0 | I12: 0
A13: 151 | B13: 12 | C13: ='PR-RAS'!D17 -> 0 | D13: ='PR-RAS'!E17 -> 0 | E13: 0 | F13: 0 | G13: =(B13/1000)*(C13*1+D13*2) -> 0 | H13: =ABS(C13-ROUND(C13,0))+ABS(D13-ROUND(D13,0)) -> 0 | I13: 0
... A302: 151 | B302: 301 | C302: ='PR-RAS'!D306 -> 0 | D302: ='PR-RAS'!E306 -> 0 | E302: 0 | F302: 0 | G302: =(B302/1000)*(C302*1+D302*2) -> 0 | H302: =ABS(C302-ROUND(C302,0))+ABS(D302-ROUND(D302,0)) -> 0 | I302: 0
A303: 151 | B303: 302 | C303: ='PR-RAS'!D308 -> 460.32 | D303: ='PR-RAS'!E308 -> 2327.32 | E303: 0 | F303: 0 | G303: =(B303/1000)*(C303*1+D303*2) -> 1544.7179 | H303: =ABS(C303-ROUND(C303,0))+ABS(D303-ROUND(D303,0)) -> 0.64 | I303: 0
A304: 151 | B304: 303 | C304: ='PR-RAS'!D309 -> 64.71 | D304: ='PR-RAS'!E309 -> 931.71 | E304: 0 | F304: 0 | G304: =(B304/1000)*(C304*1+D304*2) -> 584.22339 | H304: =ABS(C304-ROUND(C304,0))+ABS(D304-ROUND(D304,0)) -> 0.58 | I304: 0
A305: 151 | B305: 304 | C305: ='PR-RAS'!D310 -> 64.71 | D305: ='PR-RAS'!E310 -> 931.71 | E305: 0 | F305: 0 | G305: =(B305/1000)*(C305*1+D305*2) -> 586.15152 | H305: =ABS(C305-ROUND(C305,0))+ABS(D305-ROUND(D305,0)) -> 0.58 | I305: 0
A306: 151 | B306: 305 | C306: ='PR-RAS'!D311 -> 64.71 | D306: ='PR-RAS'!E311 -> 931.71 | E306: 0 | F306: 0 | G306: =(B306/1000)*(C306*1+D306*2) -> 588.07965 | H306: =ABS(C306-ROUND(C306,0))+ABS(D306-ROUND(D306,0)) -> 0.58 | I306: 0
A307: 151 | B307: 306 | C307: ='PR-RAS'!D312 -> 0 | D307: ='PR-RAS'!E312 -> 0 | E307: 0 | F307: 0 | G307: =(B307/1000)*(C307*1+D307*2) -> 0 | H307: =ABS(C307-ROUND(C307,0))+ABS(D307-ROUND(D307,0)) -> 0 | I307: 0
A308: 151 | B308: 307 | C308: ='PR-RAS'!D313 -> 0 | D308: ='PR-RAS'!E313 -> 0 | E308: 0 | F308: 0 | G308: =(B308/1000)*(C308*1+D308*2) -> 0 | H308: =ABS(C308-ROUND(C308,0))+ABS(D308-ROUND(D308,0)) -> 0 | I308: 0
A309: 151 | B309: 308 | C309: ='PR-RAS'!D314 -> 0 | D309: ='PR-RAS'!E314 -> 0 | E309: 0 | F309: 0 | G309: =(B309/1000)*(C309*1+D309*2) -> 0 | H309: =ABS(C309-ROUND(C309,0))+ABS(D309-ROUND(D309,0)) -> 0 | I309: 0
A310: 151 | B310: 309 | C310: ='PR-RAS'!D315 -> 0 | D310: ='PR-RAS'!E315 -> 0 | E310: 0 | F310: 0 | G310: =(B310/1000)*(C310*1+D310*2) -> 0 | H310: =ABS(C310-ROUND(C310,0))+ABS(D310-ROUND(D310,0)) -> 0 | I310: 0
A311: 151 | B311: 310 | C311: ='PR-RAS'!D316 -> 0 | D311: ='PR-RAS'!E316 -> 0 | E311: 0 | F311: 0 | G311: =(B311/1000)*(C311*1+D311*2) -> 0 | H311: =ABS(C311-ROUND(C311,0))+ABS(D311-ROUND(D311,0)) -> 0 | I311: 0
A312: 151 | B312: 311 | C312: ='PR-RAS'!D317 -> 0 | D312: ='PR-RAS'!E317 -> 0 | E312: 0 | F312: 0 | G312: =(B312/1000)*(C312*1+D312*2) -> 0 | H312: =ABS(C312-ROUND(C312,0))+ABS(D312-ROUND(D312,0)) -> 0 | I312: 0
A313: 151 | B313: 312 | C313: ='PR-RAS'!D318 -> 0 | D313: ='PR-RAS'!E318 -> 0 | E313: 0 | F313: 0 | G313: =(B313/1000)*(C313*1+D313*2) -> 0 | H313: =ABS(C313-ROUND(C313,0))+ABS(D313-ROUND(D313,0)) -> 0 | I313: 0
A314: 151 | B314: 313 | C314: ='PR-RAS'!D319 -> 0 | D314: ='PR-RAS'!E319 -> 0 | E314: 0 | F314: 0 | G314: =(B314/1000)*(C314*1+D314*2) -> 0 | H314: =ABS(C314-ROUND(C314,0))+ABS(D314-ROUND(D314,0)) -> 0 | I314: 0
... A423: 151 | B423: 422 | C423: ='PR-RAS'!D428 -> 0 | D423: ='PR-RAS'!E428 -> 0 | E423: 0 | F423: 0 | G423: =(B423/1000)*(C423*1+D423*2) -> 0 | H423: =ABS(C423-ROUND(C423,0))+ABS(D423-ROUND(D423,0)) -> 0 | I423: 0
A424: 151 | B424: 423 | C424: ='PR-RAS'!D430 -> 0 | D424: ='PR-RAS'!E430 -> 0 | E424: 0 | F424: 0 | G424: =(B424/1000)*(C424*1+D424*2) -> 0 | H424: =ABS(C424-ROUND(C424,0))+ABS(D424-ROUND(D424,0)) -> 0 | I424: 0
A425: 151 | B425: 424 | C425: ='PR-RAS'!D431 -> 0 | D425: ='PR-RAS'!E431 -> 0 | E425: 0 | F425: 0 | G425: =(B425/1000)*(C425*1+D425*2) -> 0 | H425: =ABS(C425-ROUND(C425,0))+ABS(D425-ROUND(D425,0)) -> 0 | I425: 0
A426: 151 | B426: 425 | C426: ='PR-RAS'!D432 -> 0 | D426: ='PR-RAS'!E432 -> 0 | E426: 0 | F426: 0 | G426: =(B426/1000)*(C426*1+D426*2) -> 0 | H426: =ABS(C426-ROUND(C426,0))+ABS(D426-ROUND(D426,0)) -> 0 | I426: 0
A427: 151 | B427: 426 | C427: ='PR-RAS'!D433 -> 0 | D427: ='PR-RAS'!E433 -> 0 | E427: 0 | F427: 0 | G427: =(B427/1000)*(C427*1+D427*2) -> 0 | H427: =ABS(C427-ROUND(C427,0))+ABS(D427-ROUND(D427,0)) -> 0 | I427: 0
A428: 151 | B428: 427 | C428: ='PR-RAS'!D434 -> 0 | D428: ='PR-RAS'!E434 -> 0 | E428: 0 | F428: 0 | G428: =(B428/1000)*(C428*1+D428*2) -> 0 | H428: =ABS(C428-ROUND(C428,0))+ABS(D428-ROUND(D428,0)) -> 0 | I428: 0
A429: 151 | B429: 428 | C429: ='PR-RAS'!D435 -> 0 | D429: ='PR-RAS'!E435 -> 0 | E429: 0 | F429: 0 | G429: =(B429/1000)*(C429*1+D429*2) -> 0 | H429: =ABS(C429-ROUND(C429,0))+ABS(D429-ROUND(D429,0)) -> 0 | I429: 0
A430: 151 | B430: 429 | C430: ='PR-RAS'!D436 -> 0 | D430: ='PR-RAS'!E436 -> 0 | E430: 0 | F430: 0 | G430: =(B430/1000)*(C430*1+D430*2) -> 0 | H430: =ABS(C430-ROUND(C430,0))+ABS(D430-ROUND(D430,0)) -> 0 | I430: 0
A431: 151 | B431: 430 | C431: ='PR-RAS'!D437 -> 0 | D431: ='PR-RAS'!E437 -> 0 | E431: 0 | F431: 0 | G431: =(B431/1000)*(C431*1+D431*2) -> 0 | H431: =ABS(C431-ROUND(C431,0))+ABS(D431-ROUND(D431,0)) -> 0 | I431: 0
A432: 151 | B432: 431 | C432: ='PR-RAS'!D438 -> 0 | D432: ='PR-RAS'!E438 -> 0 | E432: 0 | F432: 0 | G432: =(B432/1000)*(C432*1+D432*2) -> 0 | H432: =ABS(C432-ROUND(C432,0))+ABS(D432-ROUND(D432,0)) -> 0 | I432: 0
A433: 151 | B433: 432 | C433: ='PR-RAS'!D439 -> 0 | D433: ='PR-RAS'!E439 -> 0 | E433: 0 | F433: 0 | G433: =(B433/1000)*(C433*1+D433*2) -> 0 | H433: =ABS(C433-ROUND(C433,0))+ABS(D433-ROUND(D433,0)) -> 0 | I433: 0
A434: 151 | B434: 433 | C434: ='PR-RAS'!D440 -> 0 | D434: ='PR-RAS'!E440 -> 0 | E434: 0 | F434: 0 | G434: =(B434/1000)*(C434*1+D434*2) -> 0 | H434: =ABS(C434-ROUND(C434,0))+ABS(D434-ROUND(D434,0)) -> 0 | I434: 0
A435: 151 | B435: 434 | C435: ='PR-RAS'!D441 -> 0 | D435: ='PR-RAS'!E441 -> 0 | E435: 0 | F435: 0 | G435: =(B435/1000)*(C435*1+D435*2) -> 0 | H435: =ABS(C435-ROUND(C435,0))+ABS(D435-ROUND(D435,0)) -> 0 | I435: 0
... A645: 151 | B645: 644 | C645: ='PR-RAS'!D651 -> 0 | D645: ='PR-RAS'!E651 -> 0 | E645: 0 | F645: 0 | G645: =(B645/1000)*(C645*1+D645*2) -> 0 | H645: =ABS(C645-ROUND(C645,0))+ABS(D645-ROUND(D645,0)) -> 0 | I645: 0
...

Sheet Upute
A1: OSNOVNE UPUTE ZA UNOS PODATAKA
A4: Sva bitna pravila o popunjavanju obrazaca, poslovnim pravilima navedena su u nastavku uputa, ono što nije objašnjeno u uputama opisano je u kontrolama koje javljaju pogrešku. Prije nego rješenje problema potražite na broju telefona ili adresi e-pošte na dnu uputa, pokušajte ga pronaći u sklopu uputa. Također, novost je da prilikom uvoza samog dokumenta u aplikaciju, u slučaju pogreški, aplikacija će iste javiti!
A5: Analizom najčešćih pogrešaka prilikom popunjavanja i predaje, nastojali smo na najmanju moguću mjeru smanjiti mogućnost pogreške pri popunjavanju te olakšati pronalaženje pogrešaki. Pozadina ćelije koja je upisana s predznakom minus tamo gdje to nije dopušteno obojat će se crvenom bojom. Iako je onemogućen ručni upis takvih podataka, programi koji pune Excel datoteku mogu u svaku ćeliju "zgurati" bilo kakvu vrijednost pa je kontrola ovog tipa potrebna. Također, novost je da prilikom uvoza samog dokumenta u aplikaciju, u slučaju pogreški, aplikacija će iste javiti!
A6: U nastavku su dane tehničke upute o popunjavanju obrazaca.
A7: U obrasce se unose iznosi samo pojedinačnih stavki. Sumarne stavke zaštićene su, u njih nije moguć unos, a izračunavaju se automatski na osnovu upisanih pojedinačnih iznosa. Iznosi s centima su dopušteni. Sumarne stavke u obrascu su plave boje s podebljanim tipom slova (bold) da se bolje razlikuju. Vrijednosti tih pozicija izračunat će se automatski na osnovu upisanih pojedinačnih stavaka. Na obrascima koji imaju stupac indeks, taj podatak se ne upisuje već se izračunava automatski na osnovu upisanih vrijednosti. Tamo gdje indeks nije moguće izračunati pojavit će se crtica "-", a tamo gdje je indeks veći od 1000 pojavit će se tekst ">>100".
A8: Vrlo važno: Kod unosa vrijednosti naprednijim metodama Kopiraj/Zalijepi (Copy/Paste) iz nekih drugih dokumenata OBAVEZNO koristite metodu Copy (Kopiraj), a ne Cut (Izreži), jer se kod korištenja metode Cut/Paste nepovratno pokvari struktura datoteke. Isto tako, kod Paste metode koristite opciju Paste Special (Posebno lijepljenje), pa odaberite Vrijednosti (Value). Ni u kom slučaju ne prenosite krivo upisane iznose s jedne pozicije u excel-u na drugu tako da ih odvlačite mišem na ispravno mjesto. Ovo je i dalje vrlo česta pogreška i takav način rada trajno oštećuje Excel datoteku (potrebno je novu popuniti od nule). Ni u kom slučaju ne brišite postojeće radne listove, ne mijenjajte nazive postojećih, ne uključujte dijeljenje ili zaštitu radne knjige, ne ubacujte linkove na neke druge dokumente. S obzirom da su svi radni listovi međusobno povezani formulama koje služe kao kontrola, svaka od spomenutih radnji rezultira da Excel datoteka postane neupotrebljiva za računalnu obradu i morat ćete ispuniti novu datoteku.
A9: Kontrole obrazaca su na razini pojedinog obrasca. Kontrole na razini pojedinog obrasca provjeravajte nakon popunjavanja tog obrasca. Ako neka kontrola nije zadovoljena ispravite podatak.
A10: Korisnici Open Office-a: Koristite li starije verzije OpenOffice-a možete s Interneta besplatno skinuti zadnju verziju OpenOffice-a, jer obrasci popunjeni u starijim verzijama mogli bi biti nečitki nakon predaje u aplikaciju. Također, neke verzije Excel-a ne rade dobro bez svih zakrpa (Service Pack-ova), zato provjerite sa svojim informatičarima imate li na računalu instalirane sve zakrpe za program koji koristitie za popunjavanje. Ispravan format ima nastavak .xlsx. Promjena samo nastavka u nazivu datoteke ne mijenja stvarni format datoteke pa će takva datoteka i dalje biti problem ako je samo preimenujete iz *.xls u *.xlsx.
A11: Imate li problema tehničke naravi s popunjavanjem obrasca, radom kontrola i slično, dostavite nam popunjenu problematičnu Excel datoteku zajedno s Vašim kontakt podacima te podacima o programu koji i koju verziju koristite za popunjavanje na adresu e-pošte: rkpfi@mfin.hr.

Sheet RefStr
A2: REFERENTNA STRANICA
I3: Verzija 8.4.0
A4: Izvještaji proračuna, proračunskih i izvanproračunskih korisnika
B6: RKP: | C6: 35940 | H6: Popunjen | I6: Broj pogrešaka
E7: Pregled popunjenosti obrazaca i stanje kontrola: | F7: PR-RAS | H7: =IF(OR(MAX(Skriveni!C2:F1010)>0,MIN(Skriveni!C2:F1010)<0),"DA","NE") -> DA | I7: =IF(AND(H7="DA",Kont!E23>0),Kont!E23,"Nema") -> Nema
B8: Naziv obveznika: | C8: OPĆINA JAGODNJAK | F8: BILANCA | H8: =IF(OR(MAX(Skriveni!C1011:D1399)>0,MIN(Skriveni!C1011:D1399)<0),"DA","NE") -> NE | I8: =IF(AND(H8="DA",Kont!E298>0),Kont!E298,"Nema") -> Nema
F9: RAS funkcijski | H9: =IF(OR(MAX(Skriveni!C1400:D1536)>0,MIN(Skriveni!C1400:D1536)<0),"DA","NE") -> NE | I9: =IF(AND(H9="DA",Kont!E346>0),Kont!E346,"Nema") -> Nema
B10: Razina: | C10: 22 | F10: P-VRIO | H10: {=IF(OR(SUMPRODUCT(--('P-VRIO'!D8:E13<>""))<>0,SUMPRODUCT(--('P-VRIO'!D15:E21<>""))<>0,SUMPRODUCT(--('P-VRIO'!D24:E29<>""))<>0,SUMPRODUCT(--('P-VRIO'!D31:E37<>""))<>0,SUMPRODUCT(--('P-VRIO'!D40:E43<>""))<>0,SUMPRODUCT(--('P-VRIO'!D45:E48<>""))<>0),"DA","NE")} -> NE | I10: =IF(Kont!E344>0,Kont!E344,"Nema") -> Nema
F11: OBVEZE | H11: =IF(OR(MAX(Skriveni!C1581:C1685)>0,MIN(Skriveni!C1581:C1685)<0),"DA","NE") -> DA | I11: =IF(AND(H11="DA",Kont!E341>0),Kont!E341,"Nema") -> Nema
F12: EU IZVJEŠTAJ | H12: NE | I12: Nema
B13: Oznaka razdoblja: | C13: 2026-03 | F13: Kontrole između dva različita obrasca | I13: =IF(Kont!E14>0,Kont!E14,"Nema") -> Nema
A16: Obrazac | B16: Opis stavke | G16: Šifra | H16: Ostvareno u izvještajnom razdoblju preth. godine | I16: Ostvareno u izvještajnom razdoblju tekuće godine
A17: PR-RAS | B17: ='PR-RAS'!B6 -> PRIHODI POSLOVANJA (šifre 61+62+63+64+65+66+67+68) | G17: ='PR-RAS'!C6 -> 6 | H17: ='PR-RAS'!D6 -> 309551.76 | I17: ='PR-RAS'!E6 -> 352763
B18: ='PR-RAS'!B152 -> RASHODI POSLOVANJA (šifre 31+32+34+35+36+37+38) | G18: ='PR-RAS'!C152 -> 3 | H18: ='PR-RAS'!D152 -> 308325.29 | I18: ='PR-RAS'!E152 -> 343408.91
B19: ='PR-RAS'!B649 -> Višak prihoda i primitaka raspoloživ u sljedećem razdoblju (šifre X005 + '9221-9222' - Y005 - '9222-9221') | G19: ='PR-RAS'!C649 -> X006 | H19: ='PR-RAS'!D649 -> 0 | I19: ='PR-RAS'!E649 -> 0
B20: ='PR-RAS'!B650 -> Manjak prihoda i primitaka za pokriće u sljedećem razdoblju (šifre Y005 + '9222-9221' - X005 - '9221-9222' ) | G20: ='PR-RAS'!C650 -> Y006 | H20: ='PR-RAS'!D650 -> 198636.76 | I20: ='PR-RAS'!E650 -> 244440.77
A21: Obrazac | B21: Opis stavke | G21: Šifra | H21: Stanje 1. siječnja | I21: Stanje 31. prosinca
A22: BILANCA | B22: =BILANCA!B7 -> Nefinancijska imovina (šifre 01+02+03+04+05+06) | G22: =BILANCA!C7 -> B002 | H22: =BILANCA!D7 -> 0 | I22: =BILANCA!E7 -> 0
B23: =BILANCA!B69 -> Financijska imovina (šifre 11+12+13+14+15+16+17+19) | G23: =BILANCA!C69 -> 1 | H23: =BILANCA!D69 -> 0 | I23: =BILANCA!E69 -> 0
B24: =BILANCA!B176 -> Obveze (šifre 23+24+25+26+27+29) | G24: =BILANCA!C176 -> 2 | H24: =BILANCA!D176 -> 0 | I24: =BILANCA!E176 -> 0
B25: =BILANCA!B250 -> Vlastiti izvori (šifre 91 + 922 - 93 + 96 + 97) | G25: =BILANCA!C250 -> 9 | H25: =BILANCA!D250 -> 0 | I25: =BILANCA!E250 -> 0
A26: Obrazac | B26: Opis stavke | G26: Šifra | H26: Ostvareno u izvještajnom razdoblju preth. godine | I26: Ostvareno u izvještajnom razdoblju tekuće godine
A27: RAS-funkcijski | B27: ='RAS-funkcijski'!B5 -> Opće javne usluge (šifre 011+012+013+014 do 018) | G27: ='RAS-funkcijski'!C5 -> 01 | H27: ='RAS-funkcijski'!D5 -> 0 | I27: ='RAS-funkcijski'!E5 -> 0
B28: ='RAS-funkcijski'!B35 -> Ekonomski poslovi (šifre 041+042+043+044+045+046+047+048+049) | G28: ='RAS-funkcijski'!C35 -> 04 | H28: ='RAS-funkcijski'!D35 -> 0 | I28: ='RAS-funkcijski'!E35 -> 0
B29: ='RAS-funkcijski'!B88 -> Rashodi vezani za stanovanje i kom. pogodnosti koji nisu drugdje svrstani | G29: ='RAS-funkcijski'!C88 -> 066 | H29: ='RAS-funkcijski'!D88 -> 0 | I29: ='RAS-funkcijski'!E88 -> 0
B30: ='RAS-funkcijski'!B114 -> Obrazovanje (šifre 091+092+093+094+095+096+097+098) | G30: ='RAS-funkcijski'!C114 -> 09 | H30: ='RAS-funkcijski'!D114 -> 0 | I30: ='RAS-funkcijski'!E114 -> 0
B31: ='RAS-funkcijski'!B141 -> Kontrolni zbroj (šifre 01+02+03+04+05+06+07+08+09+10) | G31: ='RAS-funkcijski'!C141 -> R1 | H31: ='RAS-funkcijski'!D141 -> 0 | I31: ='RAS-funkcijski'!E141 -> 0
A32: Obrazac | B32: Opis stavke | G32: Šifra | H32: Iznos povećanja | I32: Iznos smanjenja
A33: P-VRIO | B33: ='P-VRIO'!B5 -> Promjene u vrijednosti i obujmu imovine (šifre 91511+91512) | G33: ='P-VRIO'!C5 -> 9151 | H33: ='P-VRIO'!D5 -> 0 | I33: ='P-VRIO'!E5 -> 0
B34: ='P-VRIO'!B22 -> Promjene u obujmu imovine (šifre P016+P023) | G34: ='P-VRIO'!C22 -> 91512 | H34: ='P-VRIO'!D22 -> 0 | I34: ='P-VRIO'!E22 -> 0
B35: ='P-VRIO'!B38 -> Promjene u vrijednosti i obujmu obveza (šifre 91521+91522) | G35: ='P-VRIO'!C38 -> 9152 | H35: ='P-VRIO'!D38 -> 0 | I35: ='P-VRIO'!E38 -> 0
B36: ='P-VRIO'!B44 -> Promjene u obujmu obveza (šifre P035 do P038) | G36: ='P-VRIO'!C44 -> 91522 | H36: ='P-VRIO'!D44 -> 0 | I36: ='P-VRIO'!E44 -> 0
A37: Obrazac | B37: Opis stavke | G37: Šifra | H37: Stanje 1. siječnja | I37: Stanje na kraju izvještajnog razdoblja
A38: OBVEZE | B38: =OBVEZE!B5 -> Stanje obveza 1. siječnja (=stanju obveza iz Izvještaja o obvezama na 31. prosinca prethodne godine) | G38: =OBVEZE!C5 -> V001 | H38: =OBVEZE!D5 -> 179765.27 | I38: -
B39: =OBVEZE!B44 -> Stanje obveza na kraju izvještajnog razdoblja (šifre V001+V002-V004) i (šifre V007+V009) | G39: =OBVEZE!C44 -> V006 | H39: - | I39: =OBVEZE!D44 -> 154166.29
B40: =OBVEZE!B45 -> Stanje dospjelih obveza na kraju izvještajnog razdoblja (šifre V008+D23+D24 + 'D dio 25,26' + D27) | G40: =OBVEZE!C45 -> V007 | H40: - | I40: =OBVEZE!D45 -> 0
B41: =OBVEZE!B104 -> Stanje nedospjelih obveza na kraju izvještajnog razdoblja (šifre V010 + ND23 + ND24 + 'ND dio 25,26' + ND27) | G41: =OBVEZE!C104 -> V009 | H41: - | I41: =OBVEZE!D104 -> 154166.29
E44: Potpis osobe odgovorne za računovodstvo | H44: Potpis odgovorne osobe subjekta i pečat

Sheet PR-RAS
A1: Obveznik: | B1: 35940 - OPĆINA JAGODNJAK | C1: Razina: | D1: 22 | E1: Razdoblje: | F1: 2026-03
A2: IZVJEŠTAJ O PRIHODIMA I RASHODIMA, PRIMICIMA I IZDACIMA
A3: Račun iz Rač. plana | B3: Opis stavke | C3: Šifra | D3: Ostvareno u izvještajnom razdoblju preth. godine | E3: Ostvareno u izvještajnom razdoblju tekuće godine | F3: Indeks (5/4)
A4: 1 | B4: 2 | C4: 3 | D4: 4 | E4: 5 | F4: 6
A5: Prihodi i rashodi poslovanja
A6: 6 | B6: PRIHODI POSLOVANJA (šifre 61+62+63+64+65+66+67+68) | C6: 6 | D6: =D7+D43+D49+D82+D106+D125+D134+D140 -> 309551.76 | E6: =E7+E43+E49+E82+E106+E125+E134+E140 -> 352763 | F6: =IF(D6<>0,IF(E6/D6>=100,">>100",E6/D6*100),"-") -> 113.95929
A7: 61 | B7: Prihodi od poreza (šifre 611+612+613+614+615+616) | C7: 61 | D7: =D8+D17+D23+D29+D36+D39 -> 123629.75 | E7: =E8+E17+E23+E29+E36+E39 -> 109416.58 | F7: =IF(D7<>0,IF(E7/D7>=100,">>100",E7/D7*100),"-") -> 88.503439
A8: 611 | B8: Porez na dohodak (šifre 6111 do 6116 - 6117 - 6119) | C8: 611 | D8: =SUM(D9:D14)-D15-D16 -> 120120.19 | E8: =SUM(E9:E14)-E15-E16 -> 104881.04 | F8: =IF(D8<>0,IF(E8/D8>=100,">>100",E8/D8*100),"-") -> 87.313415
A9: 6111 | B9: Porez na dohodak od nesamostalnog rada | C9: 6111 | D9: 120120.19 | E9: 104881.04 | F9: =IF(D9<>0,IF(E9/D9>=100,">>100",E9/D9*100),"-") -> 87.313415
A10: 6112 | B10: Porez na dohodak od samostalnih djelatnosti | C10: 6112 | D10: 0 | F10: =IF(D10<>0,IF(E10/D10>=100,">>100",E10/D10*100),"-") -> -
A11: 6113 | B11: Porez na dohodak od imovine i imovinskih prava | C11: 6113 | D11: 0 | F11: =IF(D11<>0,IF(E11/D11>=100,">>100",E11/D11*100),"-") -> -
A12: 6114 | B12: Porez na dohodak od kapitala | C12: 6114 | D12: 0 | F12: =IF(D12<>0,IF(E12/D12>=100,">>100",E12/D12*100),"-") -> -
A13: 6115 | B13: Porez na dohodak po godišnjoj prijavi | C13: 6115 | D13: 0 | F13: =IF(D13<>0,IF(E13/D13>=100,">>100",E13/D13*100),"-") -> -
A14: 6116 | B14: Porez na dohodak utvrđen u postupku nadzora za prethodne godine | C14: 6116 | D14: 0 | F14: =IF(D14<>0,IF(E14/D14>=100,">>100",E14/D14*100),"-") -> -
A15: 6117 | B15: Povrat poreza na dohodak po godišnjoj prijavi | C15: 6117 | D15: 0 | F15: =IF(D15<>0,IF(E15/D15>=100,">>100",E15/D15*100),"-") -> -
A16: 6119 | B16: Povrat više ostvarenog poreza na dohodak za decentralizirane funkcije | C16: 6119 | D16: 0 | F16: =IF(D16<>0,IF(E16/D16>=100,">>100",E16/D16*100),"-") -> -
A17: 612 | B17: Porez na dobit (šifre 6121 do 6124 - 6125) | C17: 612 | D17: =SUM(D18:D21)-D22 -> 0 | E17: =SUM(E18:E21)-E22 -> 0 | F17: =IF(D17<>0,IF(E17/D17>=100,">>100",E17/D17*100),"-") -> -
A18: 6121 | B18: Porez na dobit od poduzetnika | C18: 6121 | D18: 0 | F18: =IF(D18<>0,IF(E18/D18>=100,">>100",E18/D18*100),"-") -> -
A19: 6122 | B19: Porez na dobit po odbitku na naknade za korištenje prava i za usluge | C19: 6122 | D19: 0 | F19: =IF(D19<>0,IF(E19/D19>=100,">>100",E19/D19*100),"-") -> -
A20: 6123 | B20: Porez na dobit po odbitku na kamate, dividende i udjele u dobiti | C20: 6123 | D20: 0 | F20: =IF(D20<>0,IF(E20/D20>=100,">>100",E20/D20*100),"-") -> -
A21: 6124 | B21: Porez na dobit po godišnjoj prijavi | C21: 6124 | D21: 0 | F21: =IF(D21<>0,IF(E21/D21>=100,">>100",E21/D21*100),"-") -> -
A22: 6125 | B22: Povrat poreza na dobit po godišnjoj prijavi | C22: 6125 | D22: 0 | F22: =IF(D22<>0,IF(E22/D22>=100,">>100",E22/D22*100),"-") -> -
A23: 613 | B23: Porezi na imovinu (šifre 6131 do 6135) | C23: 613 | D23: =SUM(D24:D28) -> 3278.98 | E23: =SUM(E24:E28) -> 4272.33 | F23: =IF(D23<>0,IF(E23/D23>=100,">>100",E23/D23*100),"-") -> 130.29448
A24: 6131 | B24: Stalni porezi na nepokretnu imovinu (zemlju, zgrade, kuće i ostalo) | C24: 6131 | D24: 0 | F24: =IF(D24<>0,IF(E24/D24>=100,">>100",E24/D24*100),"-") -> -
A25: 6132 | B25: Porez na nasljedstva i darove | C25: 6132 | D25: 0 | F25: =IF(D25<>0,IF(E25/D25>=100,">>100",E25/D25*100),"-") -> -
A26: 6133 | B26: Porez na kapitalne i financijske transakcije | C26: 6133 | D26: 0 | F26: =IF(D26<>0,IF(E26/D26>=100,">>100",E26/D26*100),"-") -> -
A27: 6134 | B27: Povremeni porezi na imovinu | C27: 6134 | D27: 3278.98 | E27: 4272.33 | F27: =IF(D27<>0,IF(E27/D27>=100,">>100",E27/D27*100),"-") -> 130.29448
A28: 6135 | B28: Ostali stalni porezi na imovinu | C28: 6135 | D28: 0 | F28: =IF(D28<>0,IF(E28/D28>=100,">>100",E28/D28*100),"-") -> -
A29: 614 | B29: Porezi na robu i usluge (šifre 6141 do 6147) | C29: 614 | D29: =SUM(D30:D35) -> 230.58 | E29: =SUM(E30:E35) -> 263.21 | F29: =IF(D29<>0,IF(E29/D29>=100,">>100",E29/D29*100),"-") -> 114.15127
A30: 6141 | B30: Porez na dodanu vrijednost | C30: 6141 | D30: 0 | F30: =IF(D30<>0,IF(E30/D30>=100,">>100",E30/D30*100),"-") -> -
A31: 6142 | B31: Porez na promet | C31: 6142 | D31: 230.58 | E31: 263.21 | F31: =IF(D31<>0,IF(E31/D31>=100,">>100",E31/D31*100),"-") -> 114.15127
A32: 6143 | B32: Posebni porezi i trošarine | C32: 6143 | D32: 0 | F32: =IF(D32<>0,IF(E32/D32>=100,">>100",E32/D32*100),"-") -> -
A33: 6145 | B33: Porezi na korištenje dobara ili izvođenje aktivnosti | C33: 6145 | D33: 0 | F33: =IF(D33<>0,IF(E33/D33>=100,">>100",E33/D33*100),"-") -> -
A34: 6146 | B34: Ostali porezi na robu i usluge | C34: 6146 | D34: 0 | F34: =IF(D34<>0,IF(E34/D34>=100,">>100",E34/D34*100),"-") -> -
A35: 6147 | B35: Porez na dobitke od igara na sreću i ostali porezi od igara na sreću | C35: 6147 | D35: 0 | F35: =IF(D35<>0,IF(E35/D35>=100,">>100",E35/D35*100),"-") -> -
A36: 615 | B36: Porezi na međunarodnu trgovinu i transakcije (šifre 6151+6152) | C36: 615 | D36: =SUM(D37:D38) -> 0 | E36: =SUM(E37:E38) -> 0 | F36: =IF(D36<>0,IF(E36/D36>=100,">>100",E36/D36*100),"-") -> -
A37: 6151 | B37: Carine i carinske pristojbe | C37: 6151 | D37: 0 | F37: =IF(D37<>0,IF(E37/D37>=100,">>100",E37/D37*100),"-") -> -
A38: 6152 | B38: Ostali porezi na međunarodnu trgovinu i transakcije | C38: 6152 | D38: 0 | F38: =IF(D38<>0,IF(E38/D38>=100,">>100",E38/D38*100),"-") -> -
A39: 616 | B39: Ostali prihodi od poreza (šifre 6161 do 6163) | C39: 616 | D39: =SUM(D40:D42) -> 0 | E39: =SUM(E40:E42) -> 0 | F39: =IF(D39<>0,IF(E39/D39>=100,">>100",E39/D39*100),"-") -> -
A40: 6161 | B40: Ostali prihodi od poreza koje plaćaju pravne osobe | C40: 6161 | D40: 0 | F40: =IF(D40<>0,IF(E40/D40>=100,">>100",E40/D40*100),"-") -> -
...

Sheet BILANCA
A1: Obveznik: | C1: Razina: | E1: Razdoblje:
A2: BILANCA
A3: Račun iz Rač. plana | B3: Opis stavke | C3: Šifra | D3: Stanje 1. siječnja | E3: Stanje 31. prosinca | F3: Indeks (5/4)
A4: 1 | B4: 2 | C4: 3 | D4: 4 | E4: 5 | F4: 6
A5: IMOVINA
B6: IMOVINA (šifre B002+1) | C6: B001 | D6: =D7+D69 -> 0 | E6: =E7+E69 -> 0 | F6: =IF(D6>0,IF(E6/D6>=100,">>100",E6/D6*100),"-") -> -
A7: 0 | B7: Nefinancijska imovina (šifre 01+02+03+04+05+06) | C7: B002 | D7: =D8+D12+D51+D52+D56+D63 -> 0 | E7: =E8+E12+E51+E52+E56+E63 -> 0 | F7: =IF(D7>0,IF(E7/D7>=100,">>100",E7/D7*100),"-") -> -
A8: 01 | B8: Neproizvedena dugotrajna imovina (šifre 011+012-019) | C8: 01 | D8: =D9+D10-D11 -> 0 | E8: =E9+E10-E11 -> 0 | F8: =IF(D8>0,IF(E8/D8>=100,">>100",E8/D8*100),"-") -> -
A9: 011 | B9: Materijalna imovina - prirodna bogatstva | C9: 011 | F9: =IF(D9>0,IF(E9/D9>=100,">>100",E9/D9*100),"-") -> -
A10: 012 | B10: Nematerijalna imovina | C10: 012 | F10: =IF(D10>0,IF(E10/D10>=100,">>100",E10/D10*100),"-") -> -
A11: 019 | B11: Ispravak vrijednosti neproizvedene dugotrajne imovine | C11: 019 | F11: =IF(D11>0,IF(E11/D11>=100,">>100",E11/D11*100),"-") -> -
A12: 02 | B12: Proizvedena dugotrajna imovina (šifre '021 i 02921' + '022 i 02922' + '023 i 02923' + '024 i 02924' + '025 i 02925' + '026 i 02926') | C12: 02 | D12: =D13+D19+D29+D35+D41+D45 -> 0 | E12: =E13+E19+E29+E35+E41+E45 -> 0 | F12: =IF(D12>0,IF(E12/D12>=100,">>100",E12/D12*100),"-") -> -
A13: 021 i 02921 | B13: Građevinski objekti (šifre 0211 do 0214 - 02921) | C13: 021 i 02921 | D13: =SUM(D14:D17)-D18 -> 0 | E13: =SUM(E14:E17)-E18 -> 0 | F13: =IF(D13>0,IF(E13/D13>=100,">>100",E13/D13*100),"-") -> -
A14: 0211 | B14: Stambeni objekti | C14: 0211 | F14: =IF(D14>0,IF(E14/D14>=100,">>100",E14/D14*100),"-") -> -
A15: 0212 | B15: Poslovni objekti | C15: 0212 | F15: =IF(D15>0,IF(E15/D15>=100,">>100",E15/D15*100),"-") -> -
A16: 0213 | B16: Ceste, željeznice i ostali prometni objekti | C16: 0213 | F16: =IF(D16>0,IF(E16/D16>=100,">>100",E16/D16*100),"-") -> -
A17: 0214 | B17: Ostali građevinski objekti | C17: 0214 | F17: =IF(D17>0,IF(E17/D17>=100,">>100",E17/D17*100),"-") -> -
A18: 02921 | B18: Ispravak vrijednosti građevinskih objekata | C18: 02921 | F18: =IF(D18>0,IF(E18/D18>=100,">>100",E18/D18*100),"-") -> -
A19: 022 i 02922 | B19: Postrojenja i oprema (šifre 0221 do 0228 - 02922) | C19: 022 i 02922 | D19: =SUM(D20:D27)-D28 -> 0 | E19: =SUM(E20:E27)-E28 -> 0 | F19: =IF(D19>0,IF(E19/D19>=100,">>100",E19/D19*100),"-") -> -
A20: 0221 | B20: Uredska oprema i namještaj | C20: 0221 | F20: =IF(D20>0,IF(E20/D20>=100,">>100",E20/D20*100),"-") -> -
A21: 0222 | B21: Komunikacijska oprema | C21: 0222 | F21: =IF(D21>0,IF(E21/D21>=100,">>100",E21/D21*100),"-") -> -
A22: 0223 | B22: Oprema za održavanje i zaštitu | C22: 0223 | F22: =IF(D22>0,IF(E22/D22>=100,">>100",E22/D22*100),"-") -> -
A23: 0224 | B23: Medicinska i laboratorijska oprema | C23: 0224 | F23: =IF(D23>0,IF(E23/D23>=100,">>100",E23/D23*100),"-") -> -
A24: 0225 | B24: Instrumenti i uređaji | C24: 0225 | F24: =IF(D24>0,IF(E24/D24>=100,">>100",E24/D24*100),"-") -> -
A25: 0226 | B25: Sportska i glazbena oprema | C25: 0226 | F25: =IF(D25>0,IF(E25/D25>=100,">>100",E25/D25*100),"-") -> -
A26: 0227 | B26: Uređaji, strojevi i oprema za ostale namjene | C26: 0227 | F26: =IF(D26>0,IF(E26/D26>=100,">>100",E26/D26*100),"-") -> -
A27: 0228 | B27: Vojna oprema | C27: 0228 | F27: =IF(D27>0,IF(E27/D27>=100,">>100",E27/D27*100),"-") -> -
A28: 02922 | B28: Ispravak vrijednosti postrojenja i opreme | C28: 02922 | F28: =IF(D28>0,IF(E28/D28>=100,">>100",E28/D28*100),"-") -> -
A29: 023 i 02923 | B29: Prijevozna sredstva (šifre 0231 do 0234 - 02923) | C29: 023 i 02923 | D29: =SUM(D30:D33)-D34 -> 0 | E29: =SUM(E30:E33)-E34 -> 0 | F29: =IF(D29>0,IF(E29/D29>=100,">>100",E29/D29*100),"-") -> -
A30: 0231 | B30: Prijevozna sredstva u cestovnom prometu | C30: 0231 | F30: =IF(D30>0,IF(E30/D30>=100,">>100",E30/D30*100),"-") -> -
A31: 0232 | B31: Prijevozna sredstva u željezničkom prometu | C31: 0232 | F31: =IF(D31>0,IF(E31/D31>=100,">>100",E31/D31*100),"-") -> -
A32: 0233 | B32: Prijevozna sredstva u pomorskom i riječnom prometu | C32: 0233 | F32: =IF(D32>0,IF(E32/D32>=100,">>100",E32/D32*100),"-") -> -
A33: 0234 | B33: Prijevozna sredstva u zračnom prometu | C33: 0234 | F33: =IF(D33>0,IF(E33/D33>=100,">>100",E33/D33*100),"-") -> -
A34: 02923 | B34: Ispravak vrijednosti prijevoznih sredstava | C34: 02923 | F34: =IF(D34>0,IF(E34/D34>=100,">>100",E34/D34*100),"-") -> -
A35: 024 i 02924 | B35: Knjige, umjetnička djela i ostale izložbene vrijednosti (šifre 0241 do 0244 - 02924) | C35: 024 i 02924 | D35: =SUM(D36:D39)-D40 -> 0 | E35: =SUM(E36:E39)-E40 -> 0 | F35: =IF(D35>0,IF(E35/D35>=100,">>100",E35/D35*100),"-") -> -
A36: 0241 | B36: Knjige | C36: 0241 | F36: =IF(D36>0,IF(E36/D36>=100,">>100",E36/D36*100),"-") -> -
A37: 0242 | B37: Umjetnička djela (izložena u galerijama, muzejima i slično) | C37: 0242 | F37: =IF(D37>0,IF(E37/D37>=100,">>100",E37/D37*100),"-") -> -
A38: 0243 | B38: Muzejski izlošci i predmeti prirodnih rijetkosti | C38: 0243 | F38: =IF(D38>0,IF(E38/D38>=100,">>100",E38/D38*100),"-") -> -
A39: 0244 | B39: Ostale nespomenute izložbene vrijednosti | C39: 0244 | F39: =IF(D39>0,IF(E39/D39>=100,">>100",E39/D39*100),"-") -> -
A40: 02924 | B40: Ispravak vrijednosti knjiga, umjetničkih djela i ostalih izložbenih vrijednosti | C40: 02924 | F40: =IF(D40>0,IF(E40/D40>=100,">>100",E40/D40*100),"-") -> -
...

Sheet RAS-funkcijski
A1: Obveznik: | C1: Razina: | E1: Razdoblje:
A2: IZVJEŠTAJ O RASHODIMA PREMA FUNKCIJSKOJ KLASIFIKACIJI
A3: Brojč. ozn. funk. klas. | B3: Opis stavke | C3: Šifra | D3: Ostvareno u izvještajnom razdoblju preth. godine | E3: Ostvareno u izvještajnom razdoblju tekuće godine | F3: Indeks (5/4)
A4: 1 | B4: 2 | C4: 3 | D4: 4 | E4: 5 | F4: 6
A5: 01 | B5: Opće javne usluge (šifre 011+012+013+014 do 018) | C5: 01 | D5: =D6+D10+D13+SUM(D17:D21) -> 0 | E5: =E6+E10+E13+SUM(E17:E21) -> 0 | F5: =IF(D5>0,IF(E5/D5>=100,">>100",E5/D5*100),"-") -> -
A6: 011 | B6: Izvršna i zakonodavna tijela, financijski i fiskalni poslovi, vanjski poslovi (šifre 0111 do 0113) | C6: 011 | D6: =SUM(D7:D9) -> 0 | E6: =SUM(E7:E9) -> 0 | F6: =IF(D6>0,IF(E6/D6>=100,">>100",E6/D6*100),"-") -> -
A7: 0111 | B7: Izvršna i zakonodavna tijela | C7: 0111 | F7: =IF(D7>0,IF(E7/D7>=100,">>100",E7/D7*100),"-") -> -
A8: 0112 | B8: Financijski i fiskalni poslovi | C8: 0112 | F8: =IF(D8>0,IF(E8/D8>=100,">>100",E8/D8*100),"-") -> -
A9: 0113 | B9: Vanjski poslovi | C9: 0113 | F9: =IF(D9>0,IF(E9/D9>=100,">>100",E9/D9*100),"-") -> -
A10: 012 | B10: Inozemna ekonomska pomoć (šifre 0121+0122) | C10: 012 | D10: =SUM(D11:D12) -> 0 | E10: =SUM(E11:E12) -> 0 | F10: =IF(D10>0,IF(E10/D10>=100,">>100",E10/D10*100),"-") -> -
A11: 0121 | B11: Ekonomska pomoć zemljama u razvoju i zemljama u tranziciji | C11: 0121 | F11: =IF(D11>0,IF(E11/D11>=100,">>100",E11/D11*100),"-") -> -
A12: 0122 | B12: Ekonomska pomoć usmjerena preko međunarodnih agencija | C12: 0122 | F12: =IF(D12>0,IF(E12/D12>=100,">>100",E12/D12*100),"-") -> -
A13: 013 | B13: Opće usluge (šifre 0131 do 0133) | C13: 013 | D13: =SUM(D14:D16) -> 0 | E13: =SUM(E14:E16) -> 0 | F13: =IF(D13>0,IF(E13/D13>=100,">>100",E13/D13*100),"-") -> -
A14: 0131 | B14: Opće usluge vezane za službenike | C14: 0131 | F14: =IF(D14>0,IF(E14/D14>=100,">>100",E14/D14*100),"-") -> -
A15: 0132 | B15: Sveukupno planiranje i statističke usluge | C15: 0132 | F15: =IF(D15>0,IF(E15/D15>=100,">>100",E15/D15*100),"-") -> -
A16: 0133 | B16: Ostale opće usluge | C16: 0133 | F16: =IF(D16>0,IF(E16/D16>=100,">>100",E16/D16*100),"-") -> -
A17: 014 | B17: Osnovna istraživanja | C17: 014 | F17: =IF(D17>0,IF(E17/D17>=100,">>100",E17/D17*100),"-") -> -
A18: 015 | B18: Istraživanje i razvoj: Opće javne usluge | C18: 015 | F18: =IF(D18>0,IF(E18/D18>=100,">>100",E18/D18*100),"-") -> -
A19: 016 | B19: Opće javne usluge koje nisu drugdje svrstane | C19: 016 | F19: =IF(D19>0,IF(E19/D19>=100,">>100",E19/D19*100),"-") -> -
A20: 017 | B20: Transakcije vezane za javni dug | C20: 017 | F20: =IF(D20>0,IF(E20/D20>=100,">>100",E20/D20*100),"-") -> -
A21: 018 | B21: Prijenosi općeg karaktera između različitih državnih razina | C21: 018 | F21: =IF(D21>0,IF(E21/D21>=100,">>100",E21/D21*100),"-") -> -
A22: 02 | B22: Obrana (šifre 021 do 025) | C22: 02 | D22: =SUM(D23:D27) -> 0 | E22: =SUM(E23:E27) -> 0 | F22: =IF(D22>0,IF(E22/D22>=100,">>100",E22/D22*100),"-") -> -
A23: 021 | B23: Vojna obrana | C23: 021 | F23: =IF(D23>0,IF(E23/D23>=100,">>100",E23/D23*100),"-") -> -
A24: 022 | B24: Civilna obrana | C24: 022 | F24: =IF(D24>0,IF(E24/D24>=100,">>100",E24/D24*100),"-") -> -
A25: 023 | B25: Inozemna vojna pomoć | C25: 023 | F25: =IF(D25>0,IF(E25/D25>=100,">>100",E25/D25*100),"-") -> -
A26: 024 | B26: Istraživanje i razvoj obrane | C26: 024 | F26: =IF(D26>0,IF(E26/D26>=100,">>100",E26/D26*100),"-") -> -
A27: 025 | B27: Rashodi za obranu koji nisu drugdje svrstani | C27: 025 | F27: =IF(D27>0,IF(E27/D27>=100,">>100",E27/D27*100),"-") -> -
A28: 03 | B28: Javni red i sigurnost (šifre 031 do 036) | C28: 03 | D28: =SUM(D29:D34) -> 0 | E28: =SUM(E29:E34) -> 0 | F28: =IF(D28>0,IF(E28/D28>=100,">>100",E28/D28*100),"-") -> -
A29: 031 | B29: Usluge policije | C29: 031 | F29: =IF(D29>0,IF(E29/D29>=100,">>100",E29/D29*100),"-") -> -
A30: 032 | B30: Usluge protupožarne zaštite | C30: 032 | F30: =IF(D30>0,IF(E30/D30>=100,">>100",E30/D30*100),"-") -> -
A31: 033 | B31: Sudovi | C31: 033 | F31: =IF(D31>0,IF(E31/D31>=100,">>100",E31/D31*100),"-") -> -
A32: 034 | B32: Zatvori | C32: 034 | F32: =IF(D32>0,IF(E32/D32>=100,">>100",E32/D32*100),"-") -> -
A33: 035 | B33: Istraživanje i razvoj: Javni red i sigurnost | C33: 035 | F33: =IF(D33>0,IF(E33/D33>=100,">>100",E33/D33*100),"-") -> -
A34: 036 | B34: Rashodi za javni red i sigurnost koji nisu drugdje svrstani | C34: 036 | F34: =IF(D34>0,IF(E34/D34>=100,">>100",E34/D34*100),"-") -> -
A35: 04 | B35: Ekonomski poslovi (šifre 041+042+043+044+045+046+047+048+049) | C35: 04 | D35: =D36+D39+D43+D50+D54+D60+D61+D66+D74 -> 0 | E35: =E36+E39+E43+E50+E54+E60+E61+E66+E74 -> 0 | F35: =IF(D35>0,IF(E35/D35>=100,">>100",E35/D35*100),"-") -> -
A36: 041 | B36: Opći ekonomski, trgovački i poslovi vezani uz rad (šifre 0411+0412) | C36: 041 | D36: =SUM(D37:D38) -> 0 | E36: =SUM(E37:E38) -> 0 | F36: =IF(D36>0,IF(E36/D36>=100,">>100",E36/D36*100),"-") -> -
A37: 0411 | B37: Opći ekonomski i trgovački poslovi | C37: 0411 | F37: =IF(D37>0,IF(E37/D37>=100,">>100",E37/D37*100),"-") -> -
A38: 0412 | B38: Opći poslovi vezani uz rad | C38: 0412 | F38: =IF(D38>0,IF(E38/D38>=100,">>100",E38/D38*100),"-") -> -
A39: 042 | B39: Poljoprivreda, šumarstvo, ribarstvo i lov (šifre 0421 do 0423) | C39: 042 | D39: =SUM(D40:D42) -> 0 | E39: =SUM(E40:E42) -> 0 | F39: =IF(D39>0,IF(E39/D39>=100,">>100",E39/D39*100),"-") -> -
A40: 0421 | B40: Poljoprivreda | C40: 0421 | F40: =IF(D40>0,IF(E40/D40>=100,">>100",E40/D40*100),"-") -> -
...

Sheet P-VRIO
A1: Obveznik: | C1: Razina: | E1: Razdoblje:
A2: IZVJEŠTAJ O PROMJENAMA U VRIJEDNOSTI I OBUJMU IMOVINE I OBVEZA
A3: Račun iz rač. plana | B3: Opis stavke | C3: Šifra | D3: Iznos povećanja | E3: Iznos smanjenja
A4: 1 | B4: 2 | C4: 3 | D4: 4 | E4: 5
A5: 9151 | B5: Promjene u vrijednosti i obujmu imovine (šifre 91511+91512) | C5: 9151 | D5: =D6+D22 -> 0 | E5: =E6+E22 -> 0
A6: 91511 | B6: Promjene u vrijednosti imovine (šifre P001+P008) | C6: 91511 | D6: =D7+D14 -> 0 | E6: =E7+E14 -> 0
B7: Promjene u vrijednosti nefinancijske imovine (šifre P002 do P007) | C7: P001 | D7: =SUM(D8:D13) -> 0 | E7: =SUM(E8:E13) -> 0
B8: Neproizvedena dugotrajna imovina | C8: P002
B9: Proizvedena dugotrajna imovina | C9: P003
B10: Plemeniti metali i ostale pohranjene vrijednosti | C10: P004
B11: Sitni inventar i autogume | C11: P005
B12: Dugotrajna nefinancijska imovina u pripremi | C12: P006
B13: Proizvedena kratkotrajna imovina | C13: P007
B14: Promjene u vrijednosti financijske imovine (šifre P009 do P015) | C14: P008 | D14: =SUM(D15:D21) -> 0 | E14: =SUM(E15:E21) -> 0
B15: Novac u banci i blagajni | C15: P009
B16: Potraživanja za jamčevne pologe, od zaposlenih te za više plaćene poreze i ostalo | C16: P010
B17: Potraživanja za dane zajmove | C17: P011
B18: Financijski instrumenti - vrijednosni papiri | C18: P012
B19: Financijski instrumenti - dionice i udjeli u glavnici | C19: P013
B20: Potraživanja za prihode poslovanja | C20: P014
B21: Potraživanja od prodaje nefinancijske imovine | C21: P015
A22: 91512 | B22: Promjene u obujmu imovine (šifre P016+P023) | C22: 91512 | D22: =D23+D30 -> 0 | E22: =E23+E30 -> 0
B23: Promjene u obujmu nefinancijske imovine (šifre P017 do P022) | C23: P016 | D23: =SUM(D24:D29) -> 0 | E23: =SUM(E24:E29) -> 0
B24: Neproizvedena dugotrajna imovina | C24: P017
B25: Proizvedena dugotrajna imovina | C25: P018
B26: Plemeniti metali i ostale pohranjene vrijednosti | C26: P019
B27: Sitni inventar i autogume | C27: P020
B28: Dugotrajna nefinancijska imovina u pripremi | C28: P021
B29: Proizvedena kratkotrajna imovina | C29: P022
B30: Promjene u obujmu financijske imovine (šifre P024 do P030) | C30: P023 | D30: =SUM(D31:D37) -> 0 | E30: =SUM(E31:E37) -> 0
B31: Novac u banci i blagajni | C31: P024
B32: Potraživanja za jamčevne pologe, od zaposlenih te za više plaćene poreze i ostalo | C32: P025
B33: Potraživanja za dane zajmove | C33: P026
B34: Financijski instrumenti - vrijednosni papiri | C34: P027
B35: Financijski instrumenti - dionice i udjeli u glavnici | C35: P028
B36: Potraživanja za prihode poslovanja | C36: P029
B37: Potraživanja od prodaje nefinancijske imovine | C37: P030
A38: 9152 | B38: Promjene u vrijednosti i obujmu obveza (šifre 91521+91522) | C38: 9152 | D38: =D39+D44 -> 0 | E38: =E39+E44 -> 0
A39: 91521 | B39: Promjene u vrijednosti obveza (šifre P031 do P034) | C39: 91521 | D39: =SUM(D40:D43) -> 0 | E39: =SUM(E40:E43) -> 0
B40: Obveze za rashode poslovanja | C40: P031
...

Sheet OBVEZE
A1: Obveznik: | B1: 35940 - OPĆINA JAGODNJAK | C1: Razina: | D1: 22 | E1: Razdoblje: | F1: 2026-03
A2: IZVJEŠTAJ O OBVEZAMA
A3: Račun iz rač. plana | B3: Opis stavke | C3: Šifra | D3: Iznos
A4: 1 | B4: 2 | C4: 3 | D4: 4
B5: Stanje obveza 1. siječnja (=stanju obveza iz Izvještaja o obvezama na 31. prosinca prethodne godine) | C5: V001 | D5: 179765.27
B6: Povećanje obveza u izvještajnom razdoblju (šifre V003+N23+N24 + 'N dio 25,26'+N27) | C6: V002 | D6: =D7+D8+D17+D18+D24 -> 306560.95
B7: Međusobne obveze subjekata općeg proračuna | C7: V003
A8: 23 | B8: Obveze za rashode poslovanja (šifre N231 do N239) | C8: N23 | D8: =SUM(D9:D16) -> 228075.53
A9: 231 | B9: Obveze za zaposlene | C9: N231 | D9: 117459.18
A10: 232 | B10: Obveze za materijalne rashode | C10: N232 | D10: 104352.37
A11: 234 | B11: Obveze za financijske rashode | C11: N234 | D11: 1099.79
A12: 235 | B12: Obveze za subvencije | C12: N235
A13: 236 | B13: Obveze za pomoći dane u inozemstvo i unutar općeg proračuna | C13: N236
A14: 237 | B14: Obveze za naknade građanima i kućanstvima | C14: N237 | D14: 2367.41
A15: 238 | B15: Obveze za donacije, kazne, naknade šteta i kapitalne pomoći | C15: N238 | D15: 2796.78
A16: 239 | B16: Ostale tekuće obveze | C16: N239
A17: 24 | B17: Obveze za nabavu nefinancijske imovine | C17: N24 | D17: 77388.2
A18: dio 25,26 | B18: Obveze za financijsku imovinu (šifre 'N251, 253' + N254 + N256 + 'N262,263,2643,2644,2645,2653,2654,267' + 'N261,2646,2647,2648,2655,2656') | C18: N dio 25,26 | D18: =SUM(D19:D23) -> 1097.22
A19: 251.253 | B19: Obveze za čekove i mjenice | C19: N251, 253
A20: 254 | B20: Obveze za obveznice | C20: N254
A21: 256 | B21: Obveze za ostale vrijednosne papire | C21: N256
A22: 262,263,2643,2644, 2645,2653,2654,267 | B22: Obveze za tuzemne kredite i zajmove | C22: N262,263,2643,2644,2645,2653,2654,267 | D22: 1097.22
A23: 261,2646,2647, 2648,2655,2656 | B23: Obveze za inozemne kredite i zajmove | C23: N261,2646,2647,2648,2655,2656
A24: 27 | B24: Obveze za predujmove, depozite, jamčevne pologe i tuđe prihode | C24: N27
B25: Podmirene obveze u izvještajnom razdoblju (šifre V005+P23+P24 + 'P dio 25,26'+P27) | C25: V004 | D25: =D26+D27+D36+D37+D43 -> 332159.93
B26: Međusobne obveze subjekata općeg proračuna | C26: V005
A27: 23 | B27: Obveze za rashode poslovanja (šifre P231 do P239) | C27: P23 | D27: =SUM(D28:D35) -> 227999.51
A28: 231 | B28: Obveze za zaposlene | C28: P231 | D28: 113099.58
A29: 232 | B29: Obveze za materijalne rashode | C29: P232 | D29: 110125.58
A30: 234 | B30: Obveze za financijske rashode | C30: P234 | D30: 1099.79
A31: 235 | B31: Obveze za subvencije | C31: P235
A32: 236 | B32: Obveze za pomoći dane u inozemstvo i unutar općeg proračuna | C32: P236
A33: 237 | B33: Obveze za naknade građanima i kućanstvima | C33: P237 | D33: 2768.87
A34: 238 | B34: Obveze za donacije, kazne, naknade šteta i kapitalne pomoći | C34: P238 | D34: 905.69
A35: 239 | B35: Ostale tekuće obveze | C35: P239
A36: 24 | B36: Obveze za nabavu nefinancijske imovine | C36: P24 | D36: 103063.2
A37: dio 25,26 | B37: Obveze za financijsku imovinu (šifre 'P251,253' + P254 + P256 + 'P262,263,2643,2644, 2645,2653,2654,267' + 'P261,2646,2647, 2648,2655,2656') | C37: P dio 25, 26 | D37: =SUM(D38:D42) -> 1097.22
A38: 251.253 | B38: Obveze za čekove i mjenice | C38: P251, 253
A39: 254 | B39: Obveze za obveznice | C39: P254
A40: 256 | B40: Obveze za ostale vrijednosne papire | C40: P256
...

Sheet Kont
A1: IZVJEŠTAJ O OBVEZAMA | E1: REZ
A2: KONTROLE | E2: KONTROLE | F2: UPOZORENJA | G2: RAZDOBLJE | H2: RAZDOBLJE | I2: RAZINA | J2: PR-RAS | K2: RAS-F | L2: P-VRIO | M2: BIL | N2: OBV | O2: RKP
A3: Rbr. | B3: Rezultat kontrole | C3: Opis kontrole | E3: =E4+E14+E23+E298+E341+E344+E346 -> 0 | F3: =F4+F14+F23+F298+F341+F344+F346 -> 12 | G3: =IF(RefStr!C13<>"",INT(VALUE(MID(RefStr!C13,1,4))),0) -> 2026 | H3: =IF(RefStr!C13<>"",INT(VALUE(MID(RefStr!C13,6,2))),0) -> 3 | I3: =RefStr!C10*1 -> 22 | J3: =RefStr!H7 -> DA | K3: =RefStr!H9 -> NE | L3: =RefStr!H10 -> NE | M3: =RefStr!H8 -> NE | N3: =RefStr!H11 -> DA | O3: =RefStr!C6 -> 35940
A4: OPĆE KONTROLE - Kontrole podataka iz zaglavlja i kontrole popunjenosti obrazaca | E4: =SUM(E5:E13) -> 0 | F4: =SUM(F5:F13) -> 0 | I4: 3 i 9 mjesec | J4: 6. mjesec | K4: 12. mjeseci
A5: 1 | B5: =IF(E5=1,"Pogreška",IF(F5=1,"Provjera","O.K.")) -> O.K. | C5: Razina 11 - za kvartale te za polugodište (I.-III., I.-VI., I.-IX.) predaje obrasce PR-RAS i Obveze - za kraj godine predaje SVE obrasce: PR-RAS, BIL, P-VRIO, RAS-funkcijski i Obveze. Ova kontrola javlja pogrešku ako je popunjen obrazac koji se za upisano razdoblje i razinu ne treba popuniti, ili ako nije popunjen neki koji se treba popuniti. | E5: =MAX(G5:K5) -> 0 | F5: 0 | I5: =IF(AND($I$3=11,OR($H$3=3,$H$3=9),OR($J$3<>"DA",$K$3<>"NE",$L$3<>"NE",$M$3<>"NE",$N$3<>"DA")),1,0) -> 0 | J5: =IF(AND($I$3=11,$H$3=6,OR($J$3<>"DA",$K$3<>"NE",$L$3<>"NE",$M$3<>"NE",$N$3<>"DA")),1,0) -> 0 | K5: =IF(AND($I$3=11,$H$3=12,OR($J$3<>"DA",$K$3<>"DA",$L$3<>"DA",$M$3<>"DA",$N$3<>"DA")),1,0) -> 0
A6: 2 | B6: =IF(E6=1,"Pogreška",IF(F6=1,"Provjera","O.K.")) -> O.K. | C6: Razina 12 - za kvartale (I.-III., I.-IX.) predaje samo obrazac Obveze, - za polugodište predaje obrazac PR-RAS te obrazac Obveze - za kraj godine predaje SVE obrasce: PR-RAS, BIL, P-VRIO, RAS-funkcijski i Obveze. Ova kontrola javlja pogrešku ako je popunjen obrazac koji se za upisano razdoblje i razinu ne treba popuniti, ili ako nije popunjen neki koji se treba popuniti. | E6: =MAX(G6:K6) -> 0 | F6: 0 | I6: =IF(AND($I$3=12,OR($H$3=3,$H$3=9),OR($J$3<>"NE",$K$3<>"NE",$L$3<>"NE",$M$3<>"NE",$N$3<>"DA")),1,0) -> 0 | J6: =IF(AND($I$3=12,$H$3=6,OR($J$3<>"DA",$K$3<>"NE",$L$3<>"NE",$M$3<>"NE",$N$3<>"DA")),1,0) -> 0 | K6: =IF(AND($I$3=12,$H$3=12,OR(J3<>"DA",K3<>"DA",L3<>"DA",M3<>"DA",N3<>"DA")),1,0) -> 0
A7: 3 | B7: =IF(E7=1,"Pogreška",IF(F7=1,"Provjera","O.K.")) -> O.K. | C7: Razina 13 - za kvartale te za polugodište (I.-III., I.-VI., I.-IX.) predaje samo obrazac PR-RAS - za kraj godine predaje obrasce: PR-RAS, BIL, P-VRIO i RAS-funkcijski. Ova kontrola javlja pogrešku ako je popunjen obrazac koji se za upisano razdoblje i razinu ne treba popuniti, ili ako nije popunjen neki koji se treba popuniti. | E7: =MAX(G7:K7) -> 0 | F7: 0 | I7: =IF(AND($I$3=13,OR($H$3=3,$H$3=9),OR($J$3<>"DA",$K$3<>"NE",$L$3<>"NE",$M$3<>"NE",$N$3<>"NE")),1,0) -> 0 | J7: =IF(AND($I$3=13,$H$3=6,OR($J$3<>"DA",$K$3<>"NE",$L$3<>"NE",$M$3<>"NE",$N$3<>"NE")),1,0) -> 0 | K7: =IF(AND($I$3=13,$H$3=12,OR($J$3<>"DA",$K$3<>"DA",$L$3<>"DA",$M$3<>"DA",$N$3<>"NE")),1,0) -> 0
A8: 4 | B8: =IF(E8=1,"Pogreška",IF(F8=1,"Provjera","O.K.")) -> O.K. | C8: Razina 21 - za kvartale (I.-III., I.-IX.) predaje samo obrazac PR-RAS - za polugodište predaje obrasce PR-RAS i Obveze, - na godišnjoj razini predaje sve obrasce: PR-RAS, BIL, RAS-funkcijski, P-VRIO i Obveze. Ova kontrola javlja pogrešku ako je popunjen obrazac koji se za upisano razdoblje i razinu ne treba popuniti, ili ako nije popunjen neki koji se treba popuniti. | E8: =MAX(G8:K8) -> 0 | F8: 0 | I8: =IF(AND($I$3=21,OR($H$3=3,$H$3=9),OR($J$3<>"DA",$K$3<>"NE",$L$3<>"NE",$M$3<>"NE",$N$3<>"NE")),1,0) -> 0 | J8: =IF(AND($I$3=21,$H$3=6,OR($J$3<>"DA",$K$3<>"NE",$L$3<>"NE",$M$3<>"NE",$N$3<>"DA")),1,0) -> 0 | K8: =IF(AND($I$3=21,$H$3=12,OR($J$3<>"DA",$K$3<>"DA",$L$3<>"DA",$M$3<>"DA",$N$3<>"DA")),1,0) -> 0
A9: 5 | B9: =IF(E9=1,"Pogreška",IF(F9=1,"Provjera","O.K.")) -> O.K. | C9: Razina 22 - za kvartale te za polugodište (I.-III., I.-VI., I.-IX.) predaje obrasce PR-RAS i Obveze - za kraj godine predaje SVE obrasce: PR-RAS, BIL, P-VRIO, RAS-funkcijski i Obveze. Ova kontrola javlja pogrešku ako je popunjen obrazac koji se za upisano razdoblje i razinu ne treba popuniti, ili ako nije popunjen neki koji se treba popuniti. | E9: =MAX(G9:K9) -> 0 | F9: 0 | I9: =IF(AND($I$3=22,OR($H$3=3,$H$3=9),OR($J$3<>"DA",$K$3<>"NE",$L$3<>"NE",$M$3<>"NE",$N$3<>"DA")),1,0) -> 0 | J9: =IF(AND($I$3=22,$H$3=6,OR($J$3<>"DA",$K$3<>"NE",$L$3<>"NE",$M$3<>"NE",$N$3<>"DA")),1,0) -> 0 | K9: =IF(AND($I$3=22,$H$3=12,OR($J$3<>"DA",$K$3<>"DA",$L$3<>"DA",$M$3<>"DA",$N$3<>"DA")),1,0) -> 0
A10: 6 | B10: =IF(E10=1,"Pogreška",IF(F10=1,"Provjera","O.K.")) -> O.K. | C10: Razina 23 - za kvartale ne predaje ništa, nema konsolidacije, - za polugodište (I.-VI.) predaje obrasce PR-RAS i Obveze - za kraj godine predaje SVE obrasce: PR-RAS, BIL, P-VRIO, RAS-funkcijski i Obveze. Ova kontrola javlja pogrešku ako je popunjen obrazac koji se za upisano razdoblje i razinu ne treba popuniti, ili ako nije popunjen neki koji se treba popuniti. | E10: =MAX(G10:K10) -> 0 | F10: 0 | I10: =IF(AND($I$3=23,OR($H$3=3,$H$3=9)),1,0) -> 0 | J10: =IF(AND($I$3=23,$H$3=6,OR($J$3<>"DA",$K$3<>"NE",$L$3<>"NE",$M$3<>"NE",$N$3<>"DA")),1,0) -> 0 | K10: =IF(AND($I$3=23,$H$3=12,OR($J$3<>"DA",$K$3<>"DA",$L$3<>"DA",$M$3<>"DA",$N$3<>"DA")),1,0) -> 0
A11: 7 | B11: =IF(E11=1,"Pogreška",IF(F11=1,"Provjera","O.K.")) -> O.K. | C11: Razine 31 - za kvartale (I.-III., I.-IX.) predaje samo obrazac PR-RAS - za polugodište predaje obrasce PR-RAS i Obveze - na godišnjoj razini predaje sve obrasce: PR-RAS, BIL, RAS-funkcijski, P-VRIO i Obveze. Ova kontrola javlja pogrešku ako je popunjen obrazac koji se za upisano razdoblje i razinu ne treba popuniti, ili ako nije popunjen neki koji se treba popuniti. | E11: =MAX(G11:K11) -> 0 | F11: 0 | I11: =IF(AND($I$3=31,OR($H$3=3,$H$3=9),OR($J$3<>"DA",$K$3<>"NE",$L$3<>"NE",$M$3<>"NE",$N$3<>"NE")),1,0) -> 0 | J11: =IF(AND($I$3=31,$H$3=6,OR($J$3<>"DA",$K$3<>"NE",$L$3<>"NE",$M$3<>"NE",$N$3<>"DA")),1,0) -> 0 | K11: =IF(AND($I$3=31,$H$3=12,OR($J$3<>"DA",$K$3<>"DA",$L$3<>"DA",$M$3<>"DA",$N$3<>"DA")),1,0) -> 0
A12: 8 | B12: =IF(E12=1,"Pogreška",IF(F12=1,"Provjera","O.K.")) -> O.K. | C12: Razina 41 - za kvartale i polugodište (I.-III., I.-VI. i I.-IX.) predaje obrasce PR-RAS i Obveze - na godišnjoj razini predaje sve obrasce: PR-RAS, BIL, RAS-funkcijski, P-VRIO i Obveze. Ova kontrola javlja pogrešku ako je popunjen obrazac koji se za upisano razdoblje i razinu ne treba popuniti, ili ako nije popunjen neki koji se treba popuniti. | E12: =MAX(G12:K12) -> 0 | F12: 0 | I12: =IF(AND($I$3=41,OR($H$3=3,$H$3=9),OR($J$3<>"DA",$K$3<>"NE",$L$3<>"NE",$M$3<>"NE",$N$3<>"DA")),1,0) -> 0 | J12: =IF(AND($I$3=41,$H$3=6,OR($J$3<>"DA",$K$3<>"NE",$L$3<>"NE",$M$3<>"NE",$N$3<>"DA")),1,0) -> 0 | K12: =IF(AND($I$3=41,$H$3=12,OR($J$3<>"DA",$K$3<>"DA",$L$3<>"DA",$M$3<>"DA",$N$3<>"DA")),1,0) -> 0
A13: 9 | B13: =IF(E13=1,"Pogreška",IF(F13=1,"Provjera","O.K.")) -> O.K. | C13: Razine 42 - za kvartale (I.-III., I.-IX.) predaje samo obrazac PR-RAS - za polugodište predaje obrasce PR-RAS i Obveze - na godišnjoj razini predaje sve obrasce: PR-RAS, BIL, RAS-funkcijski, P-VRIO i Obveze. Ova kontrola javlja pogrešku ako je popunjen obrazac koji se za upisano razdoblje i razinu ne treba popuniti, ili ako nije popunjen neki koji se treba popuniti. | E13: =MAX(G13:K13) -> 0 | F13: 0 | I13: =IF(AND($I$3=42,OR($H$3=3,$H$3=9),OR($J$3<>"DA",$K$3<>"NE",$L$3<>"NE",$M$3<>"NE",$N$3<>"NE")),1,0) -> 0 | J13: =IF(AND($I$3=42,$H$3=6,OR($J$3<>"DA",$K$3<>"NE",$L$3<>"NE",$M$3<>"NE",$N$3<>"DA")),1,0) -> 0 | K13: =IF(AND($I$3=42,$H$3=12,OR($J$3<>"DA",$K$3<>"DA",$L$3<>"DA",$M$3<>"DA",$N$3<>"DA")),1,0) -> 0
A14: Kontrole između dva različita obrasca | E14: =SUM(E15:E22) -> 0 | F14: =SUM(F15:F22) -> 0
A15: 1 | B15: =IF(E15=1,"Pogreška",IF(F15=1,"Provjera","O.K.")) -> O.K. | C15: Na godišnjoj razini, šifra 19 u obrascu Bilanca mora biti jednaka šifri 19 u obrascu PR-RAS. Ova kontrola je obvezujuća za razine 11, 21, 22, 31, 41, 42, a upozoravajuća za razine 12, 13 i 23. Ova kontrola vrijedi u oba stupca podataka, osim za obveznike kod kojih početak razdoblja nije ujedno i početak poslovne godine (obveznik je počeo s radom tokom godine). Za takve obveznike kontrola vrijedi samo za stupac tekuće godine (ne i prethodne). | E15: =MAX(G15:K15) -> 0 | F15: =MAX(L15:O15) -> 0 | G15: =IF(AND(H3=12,J3="DA",M3="DA",OR(I3=11,I3=21,I3=22,I3=31,I3=41,I3=42),ABS(BILANCA!D171-'PR-RAS'!D651)>0.001),1,0) -> 0 | H15: =IF(AND(H3=12,J3="DA",M3="DA",OR(I3=11,I3=21,I3=22,I3=31,I3=41,I3=42),ABS(BILANCA!E171-'PR-RAS'!E651)>0.001),1,0) -> 0 | L15: =IF(AND(H3=12,J3="DA",M3="DA",OR(I3=12,I3=13,I3=23),ABS(BILANCA!D171-'PR-RAS'!D651)>0.001),1,0) -> 0 | M15: =IF(AND(H3=12,J3="DA",M3="DA",OR(I3=12,I3=13,I3=23),ABS(BILANCA!E171-'PR-RAS'!E651)>0.001),1,0) -> 0
A16: 2 | B16: =IF(E16=1,"Pogreška",IF(F16=1,"Provjera","O.K.")) -> O.K. | C16: Na godišnjoj razini, šifra 11 u obrascu Bilanca mora biti jednaka šifri 11K u obrascu PR-RAS. Ova kontrola je obvezujuća za razine 11, 21, 22, 31, 41 i 42, a upozoravajuća za razine 12, 13, 23. Ova kontrola vrijedi u oba stupca podataka. | E16: =MAX(G16:K16) -> 0 | F16: =MAX(L16:O16) -> 0 | G16: =IF(AND(H3=12,J3="DA",M3="DA",OR(I3=11,I3=21,I3=22,I3=31,I3=41,I3=42),ABS(BILANCA!D70-'PR-RAS'!D656)>0.001),1,0) -> 0 | H16: =IF(AND(H3=12,J3="DA",M3="DA",OR(I3=11,I3=21,I3=22,I3=31,I3=41,I3=42),ABS(BILANCA!E70-'PR-RAS'!E656)>0.001),1,0) -> 0 | L16: =IF(AND(H3=12,J3="DA",M3="DA",OR(I3=12,I3=13,I3=23),ABS(BILANCA!D70-'PR-RAS'!D656)>0.001),1,0) -> 0 | M16: =IF(AND(H3=12,J3="DA",M3="DA",OR(I3=12,I3=13,I3=23),ABS(BILANCA!E70-'PR-RAS'!E656)>0.001),1,0) -> 0
A17: 3 | B17: =IF(E17=1,"Pogreška",IF(F17=1,"Provjera","O.K.")) -> O.K. | C17: Na godišnjoj razini, ako je u Bilanci šifra 9221 > 9222, tada šifra X006 u PR-RAS-u mora biti jednaka šifri 9221-9222 u Bilanci, a šifra Y006 mora biti nula. Ako je u Bilanci šifra 9222 > 9221 tada šifra Y006 u PR-RAS-u mora biti jednaka šifri 9222 - 9221 u Bilanci, a šifra X006 u PR-RAS-u mora biti nula. Ova kontrola vrijedi za obje godine osim u slučaju kada je u PR-RAS obrascu stupac prethodne godine nepopunjena. | E17: =MAX(G17:L17) -> 0 | F17: 0 | G17: =IF(AND(H3=12,J3="DA",M3="DA",BILANCA!D255-BILANCA!D259>0.001,OR(ABS(BILANCA!D255-BILANCA!D259-'PR-RAS'!D649)>0.001,ABS('PR-RAS'!D650)>0.001)),1,0) -> 0 | H17: =IF(AND(H3=12,J3="DA",M3="DA",BILANCA!E255-BILANCA!E259>0.001,OR(ABS(BILANCA!E255-BILANCA!E259-'PR-RAS'!E649)>0.001,ABS('PR-RAS'!E650)>0.001)),1,0) -> 0 | I17: =IF(AND(H3=12,J3="DA",M3="DA",BILANCA!D259-BILANCA!D255>0.001,OR(ABS(BILANCA!D259-BILANCA!D255-'PR-RAS'!D650)>0.001,ABS('PR-RAS'!D649)>0.001)),1,0) -> 0 | J17: =IF(AND(H3=12,J3="DA",M3="DA",BILANCA!E259-BILANCA!E255>0.001,OR(ABS(BILANCA!E259-BILANCA!E255-'PR-RAS'!E650)>0.001,ABS('PR-RAS'!E649)>0.001)),1,0) -> 0
A18: 4 | B18: =IF(E18=1,"Pogreška",IF(F18=1,"Provjera","O.K.")) -> O.K. | C18: Ako je obrazac RAS-funkcijski popunjen, tada razlika šifri Y034 i 367 (šifre Y034-367) u obrascu PR-RAS treba biti jednaka zbroju svih rashoda po vrstama, tj. šifri R1 u obrascu RAS-funkcijski. | E18: =MAX(G18:L18) -> 0 | F18: 0 | G18: =IF(AND(J3="DA",K3="DA",ABS('PR-RAS'!D423-'PR-RAS'!D250-'RAS-funkcijski'!D141)>0.001),1,0) -> 0 | H18: =IF(AND(J3="DA",K3="DA",ABS('PR-RAS'!E423-'PR-RAS'!E250-'RAS-funkcijski'!E141)>0.001),1,0) -> 0
A19: 5 | B19: =IF(E19=1,"Pogreška",IF(F19=1,"Provjera","O.K.")) -> O.K. | C19: Na godišnjoj razini, stanje obveza na kraju izvještajnog razdoblja (šifra V006) u obrascu OBVEZE mora biti jednako razlici šifri 2 Obveze i 29 Odgođeno plaćanje rashoda i prihodi budućih razdoblja (šifre 2-29) na dan 31. prosinca u obrascu Bilanca. Ova kontrola je obvezujuća za razine 11, 12, 21, 31, 22, 23, 41 i 42. | E19: =MAX(H19:L19) -> 0 | F19: 0 | H19: =IF(AND(H3=12,I3<>13,ABS(BILANCA!E176-BILANCA!E247-OBVEZE!D44)>0.001),1,0) -> 0
A20: 6 | B20: =IF(E20=1,"Pogreška",IF(F20=1,"Provjera","O.K.")) -> O.K. | C20: Na godišnjoj razini, ako su ukupni rashodi (šifra Y034) u obrascu PR-RAS jednaki nuli, tada zbroj svih rashoda po funkcijskoj klasifikaciji (šifra R1) u obrascu RAS-funkcijski mora biti jednak nuli. Ova kontrola vrijedi za obveznike koji u oba stupca podataka na šifri Y034 u obrascu PR-RAS i šifri R1 u obrascu RAS-funkcijski nemaju popunjene podatke. | E20: =MAX(G20:K20) -> 0 | F20: 0 | G20: =IF(AND(H3=12,'PR-RAS'!D423=0), IF('RAS-funkcijski'!D141=0, 0, 1), 0) -> 0 | H20: =IF(AND(H3=12,'PR-RAS'!E423=0), IF('RAS-funkcijski'!E141=0, 0, 1), 0) -> 0
A21: 7 | B21: =IF(E21=1,"Pogreška",IF(F21=1,"Provjera","O.K.")) -> O.K. | C21: Na godišnjoj razini, šifra 96 u obrascu Bilanca mora biti jednaka šifri 96 u obrascu PR-RAS. Ova kontrola vrijedi u oba stupca podataka. | E21: =MAX(G21:K21) -> 0 | F21: 0 | G21: =IF(AND(H3=12, J3="DA", M3="DA", ABS(BILANCA!D273-'PR-RAS'!D304)>0.001), 1, 0) -> 0 | H21: =IF(AND(H3=12, J3="DA", M3="DA", ABS(BILANCA!E273-'PR-RAS'!E304)>0.001), 1, 0) -> 0
A22: 8 | B22: =IF(E22=1,"Pogreška",IF(F22=1,"Provjera","O.K.")) -> O.K. | C22: Na godišnjoj razini, šifra 97 u obrascu Bilanca mora biti jednaka šifri 97 u obrascu PR-RAS. Ova kontrola vrijedi u oba stupca podataka. | E22: =MAX(G22:K22) -> 0 | F22: 0 | G22: =IF(AND(H3=12, J3="DA", M3="DA", ABS(BILANCA!D290-'PR-RAS'!D421)>0.001), 1, 0) -> 0 | H22: =IF(AND(H3=12, J3="DA", M3="DA", ABS(BILANCA!E290-'PR-RAS'!E421)>0.001), 1, 0) -> 0
A23: Kontrole na obrascu PR-RAS | E23: =SUM(E24:E297) -> 0 | F23: =SUM(F24:F297) -> 12
A24: 1 | B24: =IF(E24=1,"Pogreška",IF(F24=1,"Provjera","O.K.")) -> O.K. | C24: Ako je u nekom stupcu na šiframa Z006 do Z009 (broj zaposlenih) podatak veći od nule, tada mora postojati podatak na šifri 31 (rashodi za zaposlene) veći od nule. Ako su na šifri 31 iskazani rashodi za zaposlene mora postojati i podatak o broju zaposlenih. | E24: =MAX(G24:K24) -> 0 | F24: =MAX(L24:O24) -> 0 | G24: =IF(OR(AND('PR-RAS'!D153=0,MAX('PR-RAS'!D657:D660)>0),AND('PR-RAS'!E153=0,MAX('PR-RAS'!E657:E660)>0)),1,0) -> 0 | H24: =IF(OR(AND('PR-RAS'!D153<>0,MAX('PR-RAS'!D657:D660)=0),AND('PR-RAS'!E153<>0,MAX('PR-RAS'!E657:E660)=0)),1,0) -> 0
A25: 2 | B25: =IF(E25=1,"Pogreška",IF(F25=1,"Provjera","O.K.")) -> O.K. | C25: Ako je u nekom stupcu na šifri Z006 broj veći od nule, tada i na šifri Z008 mora biti broj veći od nule i obrnuto. | E25: =MAX(G25:K25) -> 0 | F25: =MAX(L25:O25) -> 0 | G25: =IF(OR(AND('PR-RAS'!D657=0,'PR-RAS'!D659<>0),AND('PR-RAS'!D657<>0,'PR-RAS'!D659=0)),1,0) -> 0 | H25: =IF(OR(AND('PR-RAS'!E657=0,'PR-RAS'!E659<>0),AND('PR-RAS'!E657<>0,'PR-RAS'!E659=0)),1,0) -> 0
A26: 3 | B26: =IF(E26=1,"Pogreška",IF(F26=1,"Provjera","O.K.")) -> O.K. | C26: Ako je u nekom stupcu na šifri Z007 broj veći od nule, tada i na šifri Z009 mora biti broj veći od nule i obrnuto. | E26: =MAX(G26:K26) -> 0 | F26: =MAX(L26:O26) -> 0 | G26: =IF(OR(AND('PR-RAS'!D658=0,'PR-RAS'!D660<>0),AND('PR-RAS'!D658<>0,'PR-RAS'!D660=0)),1,0) -> 0 | H26: =IF(OR(AND('PR-RAS'!E658=0,'PR-RAS'!E660<>0),AND('PR-RAS'!E658<>0,'PR-RAS'!E660=0)),1,0) -> 0
A27: 4 | B27: =IF(E27=1,"Pogreška",IF(F27=1,"Provjera","O.K.")) -> O.K. | C27: Zbroj šifri: 61315+61316 je samo dio šifre 6131 i mora joj biti manji ili jednak u oba stupca podataka. | E27: =MAX(G27:K27) -> 0 | F27: =MAX(L27:O27) -> 0 | G27: =IF(ROUND('PR-RAS'!D662+'PR-RAS'!D663,2)>ROUND('PR-RAS'!D24,2),1,0) -> 0 | H27: =IF(ROUND('PR-RAS'!E662+'PR-RAS'!E663,2)>ROUND('PR-RAS'!E24,2),1,0) -> 0
A28: 277 | B28: =IF(E28=1,"Pogreška",IF(F28=1,"Provjera","O.K.")) -> O.K. | C28: Šifra 61341 je samo dio šifre 6134 i mora joj biti manja ili jednaka u oba stupca podataka. | E28: =MAX(G28:K28) -> 0 | F28: =MAX(L28:O28) -> 0 | G28: =IF(ROUND('PR-RAS'!D664,2)>ROUND('PR-RAS'!D27,2),1,0) -> 0 | H28: =IF(ROUND('PR-RAS'!E664,2)>ROUND('PR-RAS'!E27,2),1,0) -> 0
A29: 5 | B29: =IF(E29=1,"Pogreška",IF(F29=1,"Provjera","O.K.")) -> O.K. | C29: Šifra 6145 mora biti jednaka zbroju šifri: 61451 do 61459 u oba stupca podataka. | E29: =MAX(G29:K29) -> 0 | F29: =MAX(L29:O29) -> 0 | G29: =IF(ROUND('PR-RAS'!D33,2) = ROUND(SUM('PR-RAS'!D665:D668),2), 0, 1) -> 0 | H29: =IF(ROUND('PR-RAS'!E33,2) = ROUND(SUM('PR-RAS'!E665:E668),2), 0, 1) -> 0
A30: 6 | B30: =IF(E30=1,"Pogreška",IF(F30=1,"Provjera","O.K.")) -> O.K. | C30: Šifra 6331 mora biti jednaka zbroju šifri: 63311 do 63314 u oba stupca podataka. | E30: =MAX(G30:K30) -> 0 | F30: =MAX(L30:O30) -> 0 | G30: =IF(ABS('PR-RAS'!D59-SUM('PR-RAS'!D669:D672))>0.001,1,0) -> 0 | H30: =IF(ABS('PR-RAS'!E59-SUM('PR-RAS'!E669:E672))>0.001,1,0) -> 0
A31: 7 | B31: =IF(E31=1,"Pogreška",IF(F31=1,"Provjera","O.K.")) -> O.K. | C31: Šifra 6332 mora biti jednaka zbroju šifri: 63321 do 63324 u oba stupca podataka. | E31: =MAX(G31:K31) -> 0 | F31: =MAX(L31:O31) -> 0 | G31: =IF(ABS('PR-RAS'!D60-SUM('PR-RAS'!D673:'PR-RAS'!D676))>0.001,1,0) -> 0 | H31: =IF(ABS('PR-RAS'!E60-SUM('PR-RAS'!E673:'PR-RAS'!E676))>0.001,1,0) -> 0
A32: 8 | B32: =IF(E32=1,"Pogreška",IF(F32=1,"Provjera","O.K.")) -> O.K. | C32: Šifra 6341 mora biti jednaka zbroju šifri: 63414 do 63416 u oba stupca podataka. | E32: =MAX(G32:K32) -> 0 | F32: =MAX(L32:O32) -> 0 | G32: =IF(ABS('PR-RAS'!D62-SUM('PR-RAS'!D677:D679))>0.001,1,0) -> 0 | H32: =IF(ABS('PR-RAS'!E62-SUM('PR-RAS'!E677:E679))>0.001,1,0) -> 0
A33: 9 | B33: =IF(E33=1,"Pogreška",IF(F33=1,"Provjera","O.K.")) -> O.K. | C33: Šifra 6342 mora biti jednaka zbroju šifri: 63424 do 63426 u oba stupca podataka. | E33: =MAX(G33:K33) -> 0 | F33: =MAX(L33:O33) -> 0 | G33: =IF(ABS('PR-RAS'!D63-SUM('PR-RAS'!D680:D682))>0.001,1,0) -> 0 | H33: =IF(ABS('PR-RAS'!E63-SUM('PR-RAS'!E680:E682))>0.001,1,0) -> 0
A34: 10 | B34: =IF(E34=1,"Pogreška",IF(F34=1,"Provjera","O.K.")) -> O.K. | C34: Šifra 6361 mora biti jednaka zbroju šifri: 63612 i 63613 u oba stupca podataka. | E34: =MAX(G34:K34) -> 0 | F34: =MAX(L34:O34) -> 0 | G34: =IF(ROUND('PR-RAS'!D69,2)<>ROUND('PR-RAS'!D683+'PR-RAS'!D684,2),1,0) -> 0 | H34: =IF(ROUND('PR-RAS'!E69,2)<>ROUND('PR-RAS'!E683+'PR-RAS'!E684,2),1,0) -> 0
